BEGIN:VCALENDAR
PRODID:-//AT Content Types//AT Event//EN
VERSION:1.0
BEGIN:VEVENT
DTSTART:20240223T140000Z
DTEND:20240223T170000Z
DCREATED:20240220T150140Z
UID:ATEvent-95ae3c9aa68d44fd96cc38e3e647f3f2
SEQUENCE:0
LAST-MODIFIED:20240220T150410Z
SUMMARY:Seminario sulla Pittura Paesaggistica Cinese
DESCRIPTION:venerdì 23 febbraio\, ore 15-18 | Aula Shakespeare\, Polo
  Tucci
PRIORITY:3
TRANSP:0
END:VEVENT
END:VCALENDAR
