BEGIN:VCALENDAR
PRODID:-//AT Content Types//AT Event//EN
VERSION:1.0
BEGIN:VEVENT
DTSTART:20211110T130000Z
DTEND:20211110T150000Z
DCREATED:20211108T133356Z
UID:ATEvent-98d136d35fe84dccad45e31c94e4423a
SEQUENCE:0
LAST-MODIFIED:20211109T182624Z
SUMMARY:Shadow (film) - di Zhang Yimou - 2018
DESCRIPTION:Evento parte della 5° edizione della Mostra cinematografi
 ca cinese in Italia
PRIORITY:3
TRANSP:0
END:VEVENT
END:VCALENDAR
