BEGIN:VCALENDAR
PRODID:-//AT Content Types//AT Event//EN
VERSION:2.0
METHOD:PUBLISH
BEGIN:VEVENT
DTSTAMP:20260420T153023Z
CREATED:20180309T154949Z
UID:ATEvent-bdd8cc2452ae4e528420091104e3729b
LAST-MODIFIED:20180316T110519Z
SUMMARY:Share & Learn
DTSTART:20180315T170000Z
DTEND:20180628T180000Z
DESCRIPTION:Incontri di scambio linguistico Cinese / Italiano
LOCATION:Aule di CREA HUB Palazzo degli Studi Via Gramsci 29/31 Macerata
CLASS:PUBLIC
END:VEVENT
END:VCALENDAR
