BEGIN:VCALENDAR
PRODID:-//AT Content Types//AT Event//EN
VERSION:2.0
METHOD:PUBLISH
BEGIN:VEVENT
DTSTAMP:20260420T154921Z
CREATED:20190205T095633Z
UID:ATEvent-fe12dbaec3ba488a9c1529a2b79eebf9
LAST-MODIFIED:20190205T153439Z
SUMMARY:Capodanno Cinese 2019 Anno del Maiale / Spazio Bambini al CreaHub
DTSTART:20190207T160000Z
DTEND:20190207T193000Z
DESCRIPTION:Giochiamo con la carta e la calligrafia cinese
LOCATION:Locali  Crea HUB / Via Gramsci 29/31 / Portici Palazzo degli Studi / Macerata
CLASS:PUBLIC
END:VEVENT
END:VCALENDAR
