BEGIN:VCALENDAR
PRODID:-//AT Content Types//AT Event//EN
VERSION:1.0
BEGIN:VEVENT
DTSTART:20150607T190000Z
DTEND:20150607T190000Z
DCREATED:20150528T101811Z
UID:ATEvent-7f5315db2d98414c89a54bc853fe4f62
SEQUENCE:0
LAST-MODIFIED:20150528T102354Z
SUMMARY:Spettacolo "Marco Polo" all'Arena Sferisterio
DESCRIPTION:Colossal di balletto cinese\, allo Sferisterio il 7 giugno
  alle 21
LOCATION:Arena Sferisterio\, Macerata
PRIORITY:3
TRANSP:0
END:VEVENT
END:VCALENDAR
