BEGIN:VCALENDAR
PRODID:-//AT Content Types//AT Event//EN
VERSION:2.0
METHOD:PUBLISH
BEGIN:VEVENT
DTSTAMP:20260420T154030Z
CREATED:20191204T164327Z
UID:ATEvent-254c44e99dec482699c7a934c4d7c183
LAST-MODIFIED:20191204T170606Z
SUMMARY:"Storia del giallo in Cina"
DTSTART:20191205T130000Z
DTEND:20191205T160000Z
DESCRIPTION:Dai casi giudiziari al romanzo di crimine - Incontro con l
 'autrice Lavinia Benedetti - Università degli studi di Catania
LOCATION:Aula Blu / Polo Pantaleoni / Via Pescheria Vecchia\, 22 / Macerata
CONTACT:+39.0733.258.5806\, info.confucio@unimc.it
CLASS:PUBLIC
END:VEVENT
END:VCALENDAR
