BEGIN:VCALENDAR
PRODID:-//AT Content Types//AT Event//EN
VERSION:2.0
METHOD:PUBLISH
BEGIN:VEVENT
DTSTAMP:20260420T153942Z
CREATED:20230414T093731Z
UID:ATEvent-f295d790ec0e4be3bbdfc66cd6f03c6c
LAST-MODIFIED:20230414T095908Z
SUMMARY:Terra e polvere 隐入尘烟
DTSTART:20230416T150000Z
DTEND:20230417T213000Z
DESCRIPTION:Film di Li Ruijun\, 2022
CONTACT:Istituto Confucio\, 0733 258 5810\, info.confucio@unimc.it
CLASS:PUBLIC
END:VEVENT
END:VCALENDAR
