BEGIN:VCALENDAR
PRODID:-//AT Content Types//AT Event//EN
VERSION:1.0
BEGIN:VEVENT
DTSTART:20170509T143000Z
DTEND:20170509T183000Z
DCREATED:20170505T133811Z
UID:ATEvent-955982ae60f746aeaebecfc5b4037da8
SEQUENCE:0
LAST-MODIFIED:20170505T135230Z
SUMMARY:"TESSENDO NEL COSMO LA TRAMA DEL CORPO" - Cristiana Turini
DESCRIPTION:Le esperienze di malattia e guarigione tra i Naxi dello Yu
 nnan
LOCATION:Aula W. Goethe (ex aula C) / Polo Didattico Tucci / Palazzo Ugolini / C.so Cavour\, 2 / Macerata
PRIORITY:3
TRANSP:0
END:VEVENT
END:VCALENDAR
