BEGIN:VCALENDAR
PRODID:-//AT Content Types//AT Event//EN
VERSION:1.0
BEGIN:VEVENT
DTSTART:20150507T150000Z
DTEND:20150507T150000Z
DCREATED:20150505T112118Z
UID:ATEvent-28ed5f9943034ee7aead28e6d02bf049
SEQUENCE:0
LAST-MODIFIED:20150506T165423Z
SUMMARY:THE EUROCOMPATIBILITY OF CHINES LANGUAGE TEACHING
DESCRIPTION:Bridging the Gap between CEFR and the Distant Language
LOCATION:Palazzo Ugolini\, aula Confucio (ex aula L)
PRIORITY:3
TRANSP:0
END:VEVENT
END:VCALENDAR
