BEGIN:VCALENDAR
PRODID:-//AT Content Types//AT Event//EN
VERSION:2.0
METHOD:PUBLISH
BEGIN:VEVENT
DTSTAMP:20260420T155138Z
CREATED:20150520T134917Z
UID:ATEvent-a94d495a9a4c49f28474059459ce1dc8
LAST-MODIFIED:20150520T134943Z
SUMMARY:TRADIZIONE E INNOVAZIONE NELLA PITTURA CINESE TRA XIX E XX SECOLO
DTSTART:20150521T140000Z
DTEND:20150520T220000Z
LOCATION:Istituto Confucio\, Macerata
CLASS:PUBLIC
END:VEVENT
END:VCALENDAR
