BEGIN:VCALENDAR
PRODID:-//AT Content Types//AT Event//EN
VERSION:2.0
METHOD:PUBLISH
BEGIN:VEVENT
DTSTAMP:20260420T155239Z
CREATED:20250923T113515Z
UID:ATEvent-b200ca9e914d48b4ba8b75a4bcb30f4f
LAST-MODIFIED:20250923T114914Z
SUMMARY:Un esempio di rappresentazione degli italiani nella letteratura cinese
DTSTART:20250929T140000Z
DTEND:20250929T160000Z
DESCRIPTION:Seminario della prof.ssa Zhang Li
CONTACT:Istituto Confucio\, 07332585810\, info.confucio@unimc.it
CLASS:PUBLIC
END:VEVENT
END:VCALENDAR
