BEGIN:VCALENDAR
PRODID:-//AT Content Types//AT Event//EN
VERSION:2.0
METHOD:PUBLISH
BEGIN:VEVENT
DTSTAMP:20260420T154109Z
CREATED:20231122T123158Z
UID:ATEvent-b07b6cadff594b8fb5b3834c908b58aa
LAST-MODIFIED:20231122T123409Z
SUMMARY:Visita delegazione della Beijing Normal University
DTSTART:20231120T080000Z
DTEND:20231120T190000Z
DESCRIPTION:20 novembre 2023
CONTACT:Istituto Confucio\, info.confucio@unimc.it
URL:https://www.instagram.com/p/Cz4hx8AsEaL/?img_index=1
CLASS:PUBLIC
END:VEVENT
END:VCALENDAR
