BEGIN:VCALENDAR
PRODID:-//AT Content Types//AT Event//EN
VERSION:2.0
METHOD:PUBLISH
BEGIN:VEVENT
DTSTAMP:20260420T153427Z
CREATED:20170217T135654Z
UID:ATEvent-e343241657634ea5b44f6611be377cc6
LAST-MODIFIED:20170217T153916Z
SUMMARY:WINTER SCHOOL 2017
DTSTART:20170221T080000Z
DTEND:20170221T113000Z
DESCRIPTION:Guardando alla Cina e oltre\nDalla gestione dei  grandi ri
 schialla preservazione del patrimonio artistico-culturale dei territor
 i.
LOCATION:Sala Banca Marche - Via Padre Matteo Ricci - Macerata
CLASS:PUBLIC
END:VEVENT
END:VCALENDAR
