BEGIN:VCALENDAR
PRODID:-//AT Content Types//AT Event//EN
VERSION:1.0
BEGIN:VEVENT
DTSTART:20150305T090000Z
DTEND:20150305T230000Z
DCREATED:20150302T114923Z
UID:ATEvent-8fa5fd3c604e46c3a93430291b982be9
SEQUENCE:0
LAST-MODIFIED:20150302T115211Z
SUMMARY:Winter School - Cultura\, Arte\, Creatività
DESCRIPTION:Imprese innovative\, servizi e prodotti per il mercato cin
 ese
LOCATION:Aula Magna d'Ateneo\, Macerata
PRIORITY:3
TRANSP:0
END:VEVENT
END:VCALENDAR
