BEGIN:VCALENDAR
PRODID:-//AT Content Types//AT Event//EN
VERSION:1.0
BEGIN:VEVENT
DTSTART:20150215T150000Z
DTEND:20150215T150000Z
DCREATED:20150212T141742Z
UID:ATEvent-46a6decd65434851aa5a9fe943aa45ee
SEQUENCE:0
LAST-MODIFIED:20150213T105155Z
SUMMARY:Yuja Wang incontra gli studenti dell'Unimc
DESCRIPTION:Incontro in esclusiva con la pianista Yuja Wang
LOCATION:Teatro Lauro Rossi\, Macerata
PRIORITY:3
TRANSP:0
END:VEVENT
END:VCALENDAR
